BEGIN:VCALENDAR
VERSION:2.0
PRODID:-//Chebsey Parish Council//Meeting Calendar//EN
CALSCALE:GREGORIAN
METHOD:PUBLISH
BEGIN:VEVENT
UID:70642-20250707@chebseyparishcouncil.gov.uk
DTSTAMP:20260424T134946Z
DTSTART;VALUE=DATE:20250707
DTEND;VALUE=DATE:20250708
SUMMARY:Chebsey Parish Council Meeting 7th July 2025
DESCRIPTION:Full Council Meeting\nView details: https://chebseyparishcouncil.gov.uk/meetings/chebsey-parish-council-meeting-7th-july-2025/
URL:https://chebseyparishcouncil.gov.uk/meetings/chebsey-parish-council-meeting-7th-july-2025/
END:VEVENT
END:VCALENDAR
