BEGIN:VCALENDAR
VERSION:2.0
PRODID:-//Chebsey Parish Council//Meeting Calendar//EN
CALSCALE:GREGORIAN
METHOD:PUBLISH
BEGIN:VEVENT
UID:70648-20250901@chebseyparishcouncil.gov.uk
DTSTAMP:20260424T133111Z
DTSTART;VALUE=DATE:20250901
DTEND;VALUE=DATE:20250902
SUMMARY:Chebsey Parish Council Meeting 1st September 2025
DESCRIPTION:Full Council Meeting\nView details: https://chebseyparishcouncil.gov.uk/meetings/chebsey-parish-council-meeting-1st-september-2025/
URL:https://chebseyparishcouncil.gov.uk/meetings/chebsey-parish-council-meeting-1st-september-2025/
END:VEVENT
END:VCALENDAR
