BEGIN:VCALENDAR
VERSION:2.0
PRODID:-//Chebsey Parish Council//Meeting Calendar//EN
CALSCALE:GREGORIAN
METHOD:PUBLISH
BEGIN:VEVENT
UID:70661-20251006@chebseyparishcouncil.gov.uk
DTSTAMP:20260424T115121Z
DTSTART;VALUE=DATE:20251006
DTEND;VALUE=DATE:20251007
SUMMARY:Chebsey Parish Council Meeting 6th October 2025
DESCRIPTION:Full Council Meeting\nView details: https://chebseyparishcouncil.gov.uk/meetings/chebsey-parish-council-meeting-6th-october-2025/
URL:https://chebseyparishcouncil.gov.uk/meetings/chebsey-parish-council-meeting-6th-october-2025/
END:VEVENT
END:VCALENDAR
