BEGIN:VCALENDAR
VERSION:2.0
PRODID:-//Chebsey Parish Council//Meeting Calendar//EN
CALSCALE:GREGORIAN
METHOD:PUBLISH
BEGIN:VEVENT
UID:70673-20251201@chebseyparishcouncil.gov.uk
DTSTAMP:20260424T114715Z
DTSTART;VALUE=DATE:20251201
DTEND;VALUE=DATE:20251202
SUMMARY:Chebsey Parish Council Meeting 1st December 2025
DESCRIPTION:Full Council Meeting\nView details: https://chebseyparishcouncil.gov.uk/meetings/chebsey-parish-council-meeting/
URL:https://chebseyparishcouncil.gov.uk/meetings/chebsey-parish-council-meeting/
END:VEVENT
END:VCALENDAR
